BEGIN:VCALENDAR
VERSION:2.0
PRODID:-//Ranger Project//Events//IT
CALSCALE:GREGORIAN
METHOD:PUBLISH
BEGIN:VEVENT
UID:zd7vbllbplhboq0dtuzetlzs@rangerproject.it
DTSTAMP:20260423T143153Z
DTSTART:20260409T220000Z
DTEND:20260411T220000Z
SUMMARY:Avalanche Camp
DESCRIPTION:Location: Davos\n\nDettagli: https://www.rangerproject.it/events/event-3
LOCATION:Davos
URL:https://www.rangerproject.it/events/event-3
END:VEVENT
END:VCALENDAR
