BEGIN:VCALENDAR
VERSION:2.0
PRODID:-//Ranger Project//Events//IT
CALSCALE:GREGORIAN
METHOD:PUBLISH
BEGIN:VEVENT
UID:ldyk7twjbnndp668urbcly6j@rangerproject.it
DTSTAMP:20260423T144726Z
DTSTART:20260404T063000Z
DTEND:20260404T233000Z
SUMMARY:Spring BBQ
DESCRIPTION:Location: Monte Rosa \n\nDettagli: https://www.rangerproject.it/events/event-2
LOCATION:Monte Rosa 
URL:https://www.rangerproject.it/events/event-2
END:VEVENT
END:VCALENDAR
